BEGIN:VCALENDAR
VERSION:2.0
PRODID:-//Bozeman Farmers Market - ECPv6.15.20//NONSGML v1.0//EN
CALSCALE:GREGORIAN
METHOD:PUBLISH
X-WR-CALNAME:Bozeman Farmers Market
X-ORIGINAL-URL:https://bozemanfarmersmarket.org
X-WR-CALDESC:Events for Bozeman Farmers Market
REFRESH-INTERVAL;VALUE=DURATION:PT1H
X-Robots-Tag:noindex
X-PUBLISHED-TTL:PT1H
BEGIN:VTIMEZONE
TZID:America/Denver
BEGIN:DAYLIGHT
TZOFFSETFROM:-0700
TZOFFSETTO:-0600
TZNAME:MDT
DTSTART:20250309T090000
END:DAYLIGHT
BEGIN:STANDARD
TZOFFSETFROM:-0600
TZOFFSETTO:-0700
TZNAME:MST
DTSTART:20251102T080000
END:STANDARD
BEGIN:DAYLIGHT
TZOFFSETFROM:-0700
TZOFFSETTO:-0600
TZNAME:MDT
DTSTART:20260308T090000
END:DAYLIGHT
BEGIN:STANDARD
TZOFFSETFROM:-0600
TZOFFSETTO:-0700
TZNAME:MST
DTSTART:20261101T080000
END:STANDARD
BEGIN:DAYLIGHT
TZOFFSETFROM:-0700
TZOFFSETTO:-0600
TZNAME:MDT
DTSTART:20270314T090000
END:DAYLIGHT
BEGIN:STANDARD
TZOFFSETFROM:-0600
TZOFFSETTO:-0700
TZNAME:MST
DTSTART:20271107T080000
END:STANDARD
END:VTIMEZONE
BEGIN:VEVENT
DTSTART;TZID=America/Denver:20260430T180000
DTEND;TZID=America/Denver:20260501T180000
DTSTAMP:20260421T054209
CREATED:20260319T040200Z
LAST-MODIFIED:20260407T012300Z
UID:1849-1777572000-1777658400@bozemanfarmersmarket.org
SUMMARY:Give Big Gallatin Valley Campaign
DESCRIPTION:Help Bozeman Farmers’ Market and our Friends of Parks volunteers raise money for local parks improvement and beautification projects around town! You can help us make an even bigger impact by donating and/or matching donations during the 24-hour Give Big Gallatin Valley campaign. \n 
URL:https://bozemanfarmersmarket.org/event/https-www-givebiggv-org-organizations-friends-of-parks-bozeman-farmers-market/
LOCATION:Virtual Event
ORGANIZER;CN="Bozeman Farmers Market":MAILTO:bozemanfarmersmarket@gmail.com
END:VEVENT
BEGIN:VEVENT
DTSTART;TZID=America/Denver:20260501T150000
DTEND;TZID=America/Denver:20260501T180000
DTSTAMP:20260421T054209
CREATED:20260319T034328Z
LAST-MODIFIED:20260319T035727Z
UID:1835-1777647600-1777658400@bozemanfarmersmarket.org
SUMMARY:Donors Lounge at Lockhorn Cider House for Give Big GV
DESCRIPTION:Join the Market Creatives at our Donors Lounge for a Pint at Lockhorn Cider House from 3pm-6pm to celebrate the end of the annual Give Big Gallatin Valley campaign. \nLockhorn Cider will feature local artists and vendors from the Bozeman Farmers’ Market line up for the month of May! \n  \nPints* are half price with the purchase of a raffle ticket or donation to the Bozeman Farmers’ Market campaign during this event! \n  \n*only select flavors
URL:https://bozemanfarmersmarket.org/event/give-big-gallatin-valley/
LOCATION:Lockhorn Cider House\, 21 S Wallace Ave\,\, Bozeman\, MT\, 59715\, United States
ORGANIZER;CN="Bozeman Farmers Market":MAILTO:bozemanfarmersmarket@gmail.com
END:VEVENT
END:VCALENDAR