BEGIN:VCALENDAR
VERSION:2.0
PRODID:-//Bozeman Farmers Market - ECPv6.15.20//NONSGML v1.0//EN
CALSCALE:GREGORIAN
METHOD:PUBLISH
X-ORIGINAL-URL:https://bozemanfarmersmarket.org
X-WR-CALDESC:Events for Bozeman Farmers Market
REFRESH-INTERVAL;VALUE=DURATION:PT1H
X-Robots-Tag:noindex
X-PUBLISHED-TTL:PT1H
BEGIN:VTIMEZONE
TZID:America/Denver
BEGIN:DAYLIGHT
TZOFFSETFROM:-0700
TZOFFSETTO:-0600
TZNAME:MDT
DTSTART:20250309T090000
END:DAYLIGHT
BEGIN:STANDARD
TZOFFSETFROM:-0600
TZOFFSETTO:-0700
TZNAME:MST
DTSTART:20251102T080000
END:STANDARD
BEGIN:DAYLIGHT
TZOFFSETFROM:-0700
TZOFFSETTO:-0600
TZNAME:MDT
DTSTART:20260308T090000
END:DAYLIGHT
BEGIN:STANDARD
TZOFFSETFROM:-0600
TZOFFSETTO:-0700
TZNAME:MST
DTSTART:20261101T080000
END:STANDARD
BEGIN:DAYLIGHT
TZOFFSETFROM:-0700
TZOFFSETTO:-0600
TZNAME:MDT
DTSTART:20270314T090000
END:DAYLIGHT
BEGIN:STANDARD
TZOFFSETFROM:-0600
TZOFFSETTO:-0700
TZNAME:MST
DTSTART:20271107T080000
END:STANDARD
END:VTIMEZONE
BEGIN:VEVENT
DTSTART;TZID=America/Denver:20260616T170000
DTEND;TZID=America/Denver:20260616T200000
DTSTAMP:20260421T072704
CREATED:20260319T035321Z
LAST-MODIFIED:20260319T040606Z
UID:1839-1781629200-1781640000@bozemanfarmersmarket.org
SUMMARY:First Market Day of 2026!
DESCRIPTION:We’re so excited! Today’s the day! Celebrate the first market day of 2026 with Bozeman Farmers’ Market in Lindley Park on June 16\, 2026! \nWe are excited to celebrate our 24th season of the Bozeman Farmers Market with our vendor community and the wonderful people in and around Bozeman!
URL:https://bozemanfarmersmarket.org/event/first-market-day-of-2026/
LOCATION:Lindley Park\, Bozeman\, MT\, 59715\, United States
ORGANIZER;CN="Bozeman Farmers Market":MAILTO:bozemanfarmersmarket@gmail.com
END:VEVENT
END:VCALENDAR